BEGIN:VCALENDAR
VERSION:2.0
PRODID:-//SIRIUS network - ECPv6.0.11//NONSGML v1.0//EN
CALSCALE:GREGORIAN
METHOD:PUBLISH
X-ORIGINAL-URL:https://www.sirius-migrationeducation.org
X-WR-CALDESC:Events for SIRIUS network
REFRESH-INTERVAL;VALUE=DURATION:PT1H
X-Robots-Tag:noindex
X-PUBLISHED-TTL:PT1H
BEGIN:VTIMEZONE
TZID:Europe/Amsterdam
BEGIN:DAYLIGHT
TZOFFSETFROM:+0100
TZOFFSETTO:+0200
TZNAME:CEST
DTSTART:20230326T010000
END:DAYLIGHT
BEGIN:STANDARD
TZOFFSETFROM:+0200
TZOFFSETTO:+0100
TZNAME:CET
DTSTART:20231029T010000
END:STANDARD
END:VTIMEZONE
BEGIN:VEVENT
DTSTART;VALUE=DATE:20230908
DTEND;VALUE=DATE:20230909
DTSTAMP:20260420T101058
CREATED:20230307T103238Z
LAST-MODIFIED:20230307T103238Z
UID:4582-1694131200-1694217599@www.sirius-migrationeducation.org
SUMMARY:International Literacy Day
DESCRIPTION:
URL:https://www.sirius-migrationeducation.org/event/international-literacy-day/
ATTACH;FMTTYPE=image/png:https://www.sirius-migrationeducation.org/wp-content/uploads/2023/03/International-Literacy-Day-Reading-Children-Instagram-Post.png
END:VEVENT
END:VCALENDAR